BEGIN:VCALENDAR
VERSION:2.0
PRODID:-//Western Metropolitan Regional Council - ECPv6.15.20//NONSGML v1.0//EN
CALSCALE:GREGORIAN
METHOD:PUBLISH
X-WR-CALNAME:Western Metropolitan Regional Council
X-ORIGINAL-URL:https://www.wmrc.wa.gov.au
X-WR-CALDESC:Events for Western Metropolitan Regional Council
REFRESH-INTERVAL;VALUE=DURATION:PT1H
X-Robots-Tag:noindex
X-PUBLISHED-TTL:PT1H
BEGIN:VTIMEZONE
TZID:Australia/Perth
BEGIN:STANDARD
TZOFFSETFROM:+0800
TZOFFSETTO:+0800
TZNAME:AWST
DTSTART:20230101T000000
END:STANDARD
END:VTIMEZONE
BEGIN:VEVENT
DTSTART;TZID=Australia/Perth:20240810T093000
DTEND;TZID=Australia/Perth:20240810T123000
DTSTAMP:20260420T010620
CREATED:20240530T013205Z
LAST-MODIFIED:20240909T022459Z
UID:6860-1723282200-1723293000@www.wmrc.wa.gov.au
SUMMARY:Clothing Swap with Carey Wright
DESCRIPTION:Join Carey Wright\, multi-winner of the WA Waste Sorted Innovation Award\, to learn more about: \n\nThe state of WA’s textile waste and the issues associated with fast fashion.\nHow to identify different types of textiles and why it’s important for building a sustainable wardrobe.\nHow to extend the life of your items through proper care- including stain removal and washing techniques\, and the best methods for drying and storing.\nDifferent methods you can adopt to maintain and repair your textiles and accessories.\n\nThe presentation will be followed by WMRC’s morning clothing swap where you can swap clothes\, shoes\, and accessories you no longer wear and leave with a refreshed wardrobe without the big spend! 👗 \nGot some items to fix? 🛠️ Then bring any clothing or jewellery need mending as we will have Repair Lab joining us on Saturday 🧵. \nHow it works: \n1) Register for a ticket: https://events.humanitix.com/clothing-swap-with-carey-wright \nTickets are limited and non-refundable. If you can no longer attend this event\, your ticket can be swapped for another WMRC event if enough notice is given. \n2) 9.30am – 10am: Check in & donate your good-quality clothes. Have a seat in the presentation room or get your items fixed. \nPlease arrive promptly as the doors will shut at 10am. \n3) 10am – 11am:  Carey Wright’s presentation \n4) 11am – 12.30pm: Clothing Swap \n  \n❌Please no kid’s clothes or bric-a-brac at this event ❌ \nMember council tickets are available to residents from Claremont\, Cottesloe\, Mosman Park\, Peppermint Grove & Subiaco. \nGeneral admission tickets are available for residents from other councils. \nMore about Carey Wright: \nCarey is experienced in waste management and the development of waste minimisation programs.\nCarey has won WA’s WasteSorted Awards Innovation of the Year winner two years running (2021-2022) and has been a finalist in seven categories for WA’s Waste Sorted Awards between 2021 and 2023.\nYou can find out more about her on her Facebook Page: https://www.facebook.com/TheWasteWhisperer \n  \nThis event is part of WMRC’s (Re)Love Your Stuff campaign and is supported by the Government of Western Australia and the Waste Authority. Find more textile-themed events on the (Re)Love Your Stuff webpage and WMRC Humanitix page.
URL:https://www.wmrc.wa.gov.au/event/clothing-swap-with-carey-wright/
LOCATION:Cottesloe Civic Centre\, 109 Broome Street\, West Australia\, Australia
ATTACH;FMTTYPE=image/png:https://www.wmrc.wa.gov.au/wp-content/uploads/2024/05/240815-Clothing-Swap-with-Carey-Facebook-Cover.png
END:VEVENT
END:VCALENDAR