BEGIN:VCALENDAR
VERSION:2.0
PRODID:-//Western Metropolitan Regional Council - ECPv6.15.20//NONSGML v1.0//EN
CALSCALE:GREGORIAN
METHOD:PUBLISH
X-ORIGINAL-URL:https://www.wmrc.wa.gov.au
X-WR-CALDESC:Events for Western Metropolitan Regional Council
REFRESH-INTERVAL;VALUE=DURATION:PT1H
X-Robots-Tag:noindex
X-PUBLISHED-TTL:PT1H
BEGIN:VTIMEZONE
TZID:Australia/Perth
BEGIN:STANDARD
TZOFFSETFROM:+0800
TZOFFSETTO:+0800
TZNAME:AWST
DTSTART:20230101T000000
END:STANDARD
END:VTIMEZONE
BEGIN:VEVENT
DTSTART;TZID=Australia/Perth:20240904T170000
DTEND;TZID=Australia/Perth:20240904T190000
DTSTAMP:20260420T031939
CREATED:20240802T081352Z
LAST-MODIFIED:20240909T022519Z
UID:7013-1725469200-1725476400@www.wmrc.wa.gov.au
SUMMARY:Visible Mending Workshop Series
DESCRIPTION:🪡 Join Olga and her team from Studio Thimbles to learn how to use visible mending to fix and revive your items! 🧵 This 2-part workshop series is designed to teach you some practical mending skills and encourage you to get creative and personalise your clothing 👕. \nOver the two workshops\, you will be covering: \n\nFundamental skills for hand sewing such as setting up the needle\, tying proper knots and how to start & finish your stitching\nVarious hand-stitching methods that are essential for mending\nHow to do embroidery stitching to add decorative elements to the mending process\nElements of Sashiko stitching\, a traditional Japanese technique that is popular in the world of visible mending\n\n❗ Please note that this is a 2-part workshop\, and you will need to attend both 2-hour workshops over the two weeks ❗ \nDetails: \n📅 Date: Wednesday 4th September & Wednesday 11th September \n🕙Time: 5pm – 7pm \n🏠 Address: Subiaco Library located at 237 Rokeby Rd\, Subiaco\n \n🚗Parking: Street parking is available. Alternatively\, the library is only a short walk from the Subiaco train station. \n💰 Cost: $5
URL:https://www.wmrc.wa.gov.au/event/visible-mending-workshop-series-2/
LOCATION:Evelyn H Parker Library\, 237 Rokeby Road\, Subiaco\, Western Australia\, 6008\, Australia
ATTACH;FMTTYPE=image/png:https://www.wmrc.wa.gov.au/wp-content/uploads/2024/08/240904-Sewing-Workshop-Facebook-Cover-1920-x-1080-px.png
ORGANIZER;CN="Western Metropolitan Regional Council":MAILTO:community@wmrc.wa.gov.au
END:VEVENT
END:VCALENDAR