BEGIN:VCALENDAR
VERSION:2.0
PRODID:-//Western Metropolitan Regional Council - ECPv6.15.20//NONSGML v1.0//EN
CALSCALE:GREGORIAN
METHOD:PUBLISH
X-WR-CALNAME:Western Metropolitan Regional Council
X-ORIGINAL-URL:https://www.wmrc.wa.gov.au
X-WR-CALDESC:Events for Western Metropolitan Regional Council
REFRESH-INTERVAL;VALUE=DURATION:PT1H
X-Robots-Tag:noindex
X-PUBLISHED-TTL:PT1H
BEGIN:VTIMEZONE
TZID:Australia/Perth
BEGIN:STANDARD
TZOFFSETFROM:+0800
TZOFFSETTO:+0800
TZNAME:AWST
DTSTART:20230101T000000
END:STANDARD
END:VTIMEZONE
BEGIN:VEVENT
DTSTART;TZID=Australia/Perth:20241005T090000
DTEND;TZID=Australia/Perth:20241005T110000
DTSTAMP:20260419T232203
CREATED:20240208T034455Z
LAST-MODIFIED:20241105T022534Z
UID:6511-1728118800-1728126000@www.wmrc.wa.gov.au
SUMMARY:Kids' Clothing Swap
DESCRIPTION:Join WMRC for our Kids’ Clothing Swap 💃♻️🙌! \nAll you need to do is bring along quality kid’s clothes\, shoes\, and accessories (any style or season) and exchange them for items that are needed instead. 👗✨👠. \n  \n📅 Dates:  Saturday 5th October \n⏳ Length: 9am-11am \n🚩Location: The Grove Library located at 1 Leake St\, Peppermint Grove \n💰 Tickets: Register for your FREE ticket here: https://events.humanitix.com/copy-of-kids-clothing-swap \n❌ Please no toys\, books\, adult clothes or bric-a-brac at this event. \nDrop off your kids’ clothing on the day\, or at the Grove Library during the preceeding week. \nThis event is part of WMRC’s (Re)Love Your Stuff campaign and is supported by the Government of Western Australia and the Waste Authority. Find more textile-themed events on the (Re)Love Your Stuff webpage and WMRC Humanitix page. \nMember council tickets are available to residents from Claremont\, Cottesloe\, Mosman Park\, Peppermint Grove & Subiaco. General admission tickets are available for Cambridge\, Nedlands and residents from other councils. \n🚸 This event is suitable for kids between the ages of 0 months to 12 years old. Please note that this swap is based on donations and therefore we cannot guarantee the age range\, gender or style of clothing that will be available 🚸
URL:https://www.wmrc.wa.gov.au/event/kids-clothing-swap-2/
LOCATION:The Grove Library\, 1 Leake Street\, Peppermint Grove\, WA\, 6011\, Australia
ATTACH;FMTTYPE=image/png:https://www.wmrc.wa.gov.au/wp-content/uploads/2024/02/240727-Clothes-Swap-Humanitix-Facebook-Cover-1920-x-1080-px.png
ORGANIZER;CN="Western Metropolitan Regional Council":MAILTO:community@wmrc.wa.gov.au
END:VEVENT
END:VCALENDAR