BEGIN:VCALENDAR
VERSION:2.0
PRODID:-//Western Metropolitan Regional Council - ECPv6.15.20//NONSGML v1.0//EN
CALSCALE:GREGORIAN
METHOD:PUBLISH
X-WR-CALNAME:Western Metropolitan Regional Council
X-ORIGINAL-URL:https://www.wmrc.wa.gov.au
X-WR-CALDESC:Events for Western Metropolitan Regional Council
REFRESH-INTERVAL;VALUE=DURATION:PT1H
X-Robots-Tag:noindex
X-PUBLISHED-TTL:PT1H
BEGIN:VTIMEZONE
TZID:Australia/Perth
BEGIN:STANDARD
TZOFFSETFROM:+0800
TZOFFSETTO:+0800
TZNAME:AWST
DTSTART:20230101T000000
END:STANDARD
END:VTIMEZONE
BEGIN:VEVENT
DTSTART;TZID=Australia/Perth:20240917T130000
DTEND;TZID=Australia/Perth:20240917T150000
DTSTAMP:20260420T005745
CREATED:20240802T081046Z
LAST-MODIFIED:20240924T012825Z
UID:7008-1726578000-1726585200@www.wmrc.wa.gov.au
SUMMARY:Visible Mending Workshop Series
DESCRIPTION:🪡 Join Olga and her team from Studio Thimbles to learn how to use visible mending to fix and revive your items! 🧵 This workshop series is designed to teach you some practical mending skills and encourage you to get creative and personalise your clothing 👕. \n❗Please note\, this is a 2-part workshop series and attendees are expected to attend both workshops ❗ \nOver the two workshops\, you will be covering: \n\nFundamental skills for hand sewing such as setting up the needle\, tying proper knots and how to start & finish your stitching\nVarious hand-stitching methods that are essential for mending\nHow to do embroidery stitching to add decorative elements to the mending process\nElements of Sashiko stitching\, a traditional Japanese technique that is popular in the world of visible mendin\n\nDetails: \n📅 Date: Tuesday 17th September & Tuesday 24th September \n🕙Time: 1pm-3pm \n$ Cost: $5.00 \n🏠 Address: Studio Thimbles located at 437 Hay St\, Subiaco\n \n🚗Parking: Parking is available at Subi Carpark located on the corner of Rokeby Rd & Barker Rd. Alternatively\, the studio is only a short walk from the Subiaco train station. \nThis event is part of WMRC’s (Re)Love Your Stuff campaign and is supported by the Government of Western Australia and the Waste Authority. Find more textile-themed events on the (Re)Love Your Stuff webpage and WMRC Humanitix page.
URL:https://www.wmrc.wa.gov.au/event/visible-mending-workshop-series/
LOCATION:Studio Thimbles\, 437 Hay St\, Subiaco\, WA\, 6008
ATTACH;FMTTYPE=image/png:https://www.wmrc.wa.gov.au/wp-content/uploads/2024/08/240917-Visible-Mending-Workshop-Facebook-Cover-1920-x-1080-px.png
ORGANIZER;CN="Western Metropolitan Regional Council":MAILTO:community@wmrc.wa.gov.au
END:VEVENT
END:VCALENDAR